BEGIN:VCALENDAR
VERSION:2.0
PRODID:-//Squarespace Inc/Squarespace 6//v6//EN
BEGIN:VEVENT
UID:5625fc67e4b0e89b63f079be@squarespace.com
DTSTAMP:20151020T083440Z
DTSTART:20151025T210000Z
DTEND:20151026T040000Z
SUMMARY:No after school coaching
END:VEVENT
END:VCALENDAR
