BEGIN:VCALENDAR
VERSION:2.0
PRODID:-//Squarespace Inc/Squarespace 6//v6//EN
BEGIN:VEVENT
UID:563f12f2e4b01117a3bd2a53@squarespace.com
DTSTAMP:20151108T091724Z
DTSTART:20151111T023000Z
DTEND:20151111T050000Z
SUMMARY:Junior after school coaching
END:VEVENT
END:VCALENDAR
