BEGIN:VCALENDAR
VERSION:2.0
PRODID:-//Squarespace Inc/Squarespace 6//v6//EN
BEGIN:VEVENT
UID:5610b983e4b0b4bcd8d07d6d@squarespace.com
DTSTAMP:20151004T053107Z
DTSTART:20151111T060000Z
DTEND:20151111T080000Z
SUMMARY:Senior Club Night
END:VEVENT
END:VCALENDAR
