BEGIN:VCALENDAR
VERSION:2.0
PRODID:-//Squarespace Inc/Squarespace 6//v6//EN
BEGIN:VEVENT
UID:56625779e4b0665ae8e61190@squarespace.com
DTSTAMP:20151205T031840Z
DTSTART:20151215T200000Z
DTEND:20151215T230000Z
SUMMARY:Junior holiday programme
END:VEVENT
END:VCALENDAR
