BEGIN:VCALENDAR
VERSION:2.0
PRODID:-//Squarespace Inc/Squarespace 6//v6//EN
BEGIN:VEVENT
UID:5662579ae4b0665ae8e61249@squarespace.com
DTSTAMP:20151205T031913Z
DTSTART:20151216T200000Z
DTEND:20151216T230000Z
SUMMARY:Junior holiday programme
END:VEVENT
END:VCALENDAR
