BEGIN:VCALENDAR
VERSION:2.0
PRODID:-//Squarespace Inc/Squarespace 6//v6//EN
BEGIN:VEVENT
UID:56a9dab88b38d453db19af24@squarespace.com
DTSTAMP:20160128T090939Z
DTSTART:20160215T033000Z
DTEND:20160215T053000Z
SUMMARY:Junior after school coaching
END:VEVENT
END:VCALENDAR
