BEGIN:VCALENDAR
VERSION:2.0
PRODID:-//Squarespace Inc/Squarespace 6//v6//EN
BEGIN:VEVENT
UID:564625b6e4b037db841e7470@squarespace.com
DTSTAMP:20151113T180426Z
DTSTART:20160205T105900Z
DTEND:20160205T110000Z
SUMMARY:Club Champs entries close
END:VEVENT
END:VCALENDAR
