BEGIN:VCALENDAR
VERSION:2.0
PRODID:-//Squarespace Inc/Squarespace 6//v6//EN
BEGIN:VEVENT
UID:5bac0badec212d4e34c3cb4a@squarespace.com
DTSTAMP:20180926T225742Z
DTSTART:20180930T200000Z
DTEND:20181003T110000Z
SUMMARY:School Holiday Programme
END:VEVENT
END:VCALENDAR
