BEGIN:VCALENDAR
VERSION:2.0
PRODID:-//Squarespace Inc/Squarespace 6//v6//EN
BEGIN:VEVENT
UID:5bac0da115fcc01a6993deb5@squarespace.com
DTSTAMP:20180926T225313Z
DTSTART:20181014T200000Z
DTEND:20181014T213000Z
SUMMARY:Ladies Tennis Fit
END:VEVENT
END:VCALENDAR
