BEGIN:VCALENDAR
VERSION:2.0
PRODID:-//Squarespace Inc/Squarespace 6//v6//EN
BEGIN:VEVENT
UID:560ca5f3e4b081f0a96f03db@squarespace.com
DTSTAMP:20151005T023842Z
DTSTART:20151014T060000Z
DTEND:20151014T080000Z
SUMMARY:Senior Club Night
END:VEVENT
END:VCALENDAR
