BEGIN:VCALENDAR
VERSION:2.0
PRODID:-//Squarespace Inc/Squarespace 6//v6//EN
BEGIN:VEVENT
UID:560cb183e4b0fbc4859aefb0@squarespace.com
DTSTAMP:20151004T233811Z
DTSTART:20151014T200000Z
DTEND:20151014T213000Z
SUMMARY:Midweek Ladies
END:VEVENT
END:VCALENDAR
