BEGIN:VCALENDAR
VERSION:2.0
PRODID:-//Squarespace Inc/Squarespace 6//v6//EN
BEGIN:VEVENT
UID:5615e83fe4b089c78ed77045@squarespace.com
DTSTAMP:20151008T040143Z
DTSTART:20151016T040000Z
DTEND:20151016T060000Z
SUMMARY:Pizza Night
END:VEVENT
END:VCALENDAR
