BEGIN:VCALENDAR
VERSION:2.0
PRODID:-//Squarespace Inc/Squarespace 6//v6//EN
BEGIN:VEVENT
UID:5610be5fe4b0a677dde9f112@squarespace.com
DTSTAMP:20151005T031326Z
DTSTART:20151016T210000Z
DTEND:20151016T220000Z
SUMMARY:Saturday junior coaching 11+
END:VEVENT
END:VCALENDAR
