BEGIN:VCALENDAR
VERSION:2.0
PRODID:-//Squarespace Inc/Squarespace 6//v6//EN
BEGIN:VEVENT
UID:5610bddce4b0f085582c1651@squarespace.com
DTSTAMP:20151005T023853Z
DTSTART:20151016T200000Z
DTEND:20151016T210000Z
SUMMARY:Saturday junior coaching 10 and under
END:VEVENT
END:VCALENDAR
