BEGIN:VCALENDAR
VERSION:2.0
PRODID:-//Squarespace Inc/Squarespace 6//v6//EN
BEGIN:VEVENT
UID:560cb0fde4b0c2b9004a621a@squarespace.com
DTSTAMP:20151001T040655Z
DTSTART:20151001T200000Z
DTEND:20151001T230000Z
SUMMARY:School Holiday Programme
END:VEVENT
END:VCALENDAR
