BEGIN:VCALENDAR
VERSION:2.0
PRODID:-//Squarespace Inc/Squarespace 6//v6//EN
BEGIN:VEVENT
UID:5610b8a6e4b02a15fa403a7d@squarespace.com
DTSTAMP:20151005T024039Z
DTSTART:20151021T060000Z
DTEND:20151021T080000Z
SUMMARY:Senior Club Night
END:VEVENT
END:VCALENDAR
