BEGIN:VCALENDAR
VERSION:2.0
PRODID:-//Squarespace Inc/Squarespace 6//v6//EN
BEGIN:VEVENT
UID:5610bab7e4b0827aaf03b9f2@squarespace.com
DTSTAMP:20151004T053621Z
DTSTART:20151021T200000Z
DTEND:20151021T213000Z
SUMMARY:Midweek Ladies
END:VEVENT
END:VCALENDAR
