BEGIN:VCALENDAR
VERSION:2.0
PRODID:-//Squarespace Inc/Squarespace 6//v6//EN
BEGIN:VEVENT
UID:5611e00be4b00b12a23df77b@squarespace.com
DTSTAMP:20151020T082932Z
DTSTART:20151023T200000Z
DTEND:20151023T210000Z
SUMMARY:Labour weekend
END:VEVENT
END:VCALENDAR
