BEGIN:VCALENDAR
VERSION:2.0
PRODID:-//Squarespace Inc/Squarespace 6//v6//EN
BEGIN:VEVENT
UID:5610b939e4b09e1a44ee87a7@squarespace.com
DTSTAMP:20151004T052955Z
DTSTART:20151028T060000Z
DTEND:20151028T080000Z
SUMMARY:Senior Club Night
END:VEVENT
END:VCALENDAR
