BEGIN:VCALENDAR
VERSION:2.0
PRODID:-//Squarespace Inc/Squarespace 6//v6//EN
BEGIN:VEVENT
UID:5610bae2e4b042344e77dd42@squarespace.com
DTSTAMP:20151008T041533Z
DTSTART:20151028T200000Z
DTEND:20151028T213000Z
SUMMARY:A&D Tournament (Midweek Ladies)
END:VEVENT
END:VCALENDAR
