BEGIN:VCALENDAR
VERSION:2.0
PRODID:-//Squarespace Inc/Squarespace 6//v6//EN
BEGIN:VEVENT
UID:5615e901e4b0f884c294baea@squarespace.com
DTSTAMP:20151014T052359Z
DTSTART:20151030T040000Z
DTEND:20151030T060000Z
SUMMARY:Pizza Night
END:VEVENT
END:VCALENDAR
