BEGIN:VCALENDAR
VERSION:2.0
PRODID:-//Squarespace Inc/Squarespace 6//v6//EN
BEGIN:VEVENT
UID:5611e08ce4b04e09dd325db6@squarespace.com
DTSTAMP:20151005T023029Z
DTSTART:20151030T200000Z
DTEND:20151030T210000Z
SUMMARY:Saturday junior coaching 10 and under
END:VEVENT
END:VCALENDAR
