BEGIN:VCALENDAR
VERSION:2.0
PRODID:-//Squarespace Inc/Squarespace 6//v6//EN
BEGIN:VEVENT
UID:5611e1dee4b0e5d9aa3ad73c@squarespace.com
DTSTAMP:20151005T023752Z
DTSTART:20151030T210000Z
DTEND:20151030T220000Z
SUMMARY:Saturday junior coaching 11+
END:VEVENT
END:VCALENDAR
