BEGIN:VCALENDAR
VERSION:2.0
PRODID:-//Squarespace Inc/Squarespace 6//v6//EN
BEGIN:VEVENT
UID:5615e787e4b0e40a968f4242@squarespace.com
DTSTAMP:20151014T052320Z
DTSTART:20151023T040000Z
DTEND:20151023T060000Z
SUMMARY:Pizza Night
END:VEVENT
END:VCALENDAR
