BEGIN:VCALENDAR
VERSION:2.0
PRODID:-//Squarespace Inc/Squarespace 6//v6//EN
BEGIN:VEVENT
UID:563f1017e4b03045514213fe@squarespace.com
DTSTAMP:20151108T092546Z
DTSTART:20151111T200000Z
DTEND:20151111T213000Z
SUMMARY:Ladies morning
END:VEVENT
END:VCALENDAR
