BEGIN:VCALENDAR
VERSION:2.0
PRODID:-//Squarespace Inc/Squarespace 6//v6//EN
BEGIN:VEVENT
UID:563f17dce4b0bff8503bcbb2@squarespace.com
DTSTAMP:20151108T093818Z
DTSTART:20151113T040000Z
DTEND:20151113T060000Z
SUMMARY:Pizza Night
END:VEVENT
END:VCALENDAR
