BEGIN:VCALENDAR
VERSION:2.0
PRODID:-//Squarespace Inc/Squarespace 6//v6//EN
BEGIN:VEVENT
UID:563f1659e4b03996706a3be1@squarespace.com
DTSTAMP:20151108T093249Z
DTSTART:20151113T200000Z
DTEND:20151113T220000Z
SUMMARY:Junior coaching
END:VEVENT
END:VCALENDAR
