BEGIN:VCALENDAR
VERSION:2.0
PRODID:-//Squarespace Inc/Squarespace 6//v6//EN
BEGIN:VEVENT
UID:563f11b8e4b06c325c70db0a@squarespace.com
DTSTAMP:20151108T091152Z
DTSTART:20151116T033000Z
DTEND:20151116T053000Z
SUMMARY:Junior after school coaching
END:VEVENT
END:VCALENDAR
