BEGIN:VCALENDAR
VERSION:2.0
PRODID:-//Squarespace Inc/Squarespace 6//v6//EN
BEGIN:VEVENT
UID:563f1338e4b068bbd97707c7@squarespace.com
DTSTAMP:20151108T091804Z
DTSTART:20151118T023000Z
DTEND:20151118T050000Z
SUMMARY:Junior after school coaching
END:VEVENT
END:VCALENDAR
