BEGIN:VCALENDAR
VERSION:2.0
PRODID:-//Squarespace Inc/Squarespace 6//v6//EN
BEGIN:VEVENT
UID:5610b9d3e4b033aa9123fe26@squarespace.com
DTSTAMP:20151114T044039Z
DTSTART:20151118T060000Z
DTEND:20151118T080000Z
SUMMARY:Open Club Night
END:VEVENT
END:VCALENDAR
