BEGIN:VCALENDAR
VERSION:2.0
PRODID:-//Squarespace Inc/Squarespace 6//v6//EN
BEGIN:VEVENT
UID:563f1529e4b06c325c70e1b7@squarespace.com
DTSTAMP:20151108T092630Z
DTSTART:20151118T200000Z
DTEND:20151118T213000Z
SUMMARY:Ladies morning
END:VEVENT
END:VCALENDAR
