BEGIN:VCALENDAR
VERSION:2.0
PRODID:-//Squarespace Inc/Squarespace 6//v6//EN
BEGIN:VEVENT
UID:563f0f35e4b039e01d2df6ed@squarespace.com
DTSTAMP:20151108T090258Z
DTSTART:20151102T033000Z
DTEND:20151102T053000Z
SUMMARY:Junior after school coaching
END:VEVENT
END:VCALENDAR
