BEGIN:VCALENDAR
VERSION:2.0
PRODID:-//Squarespace Inc/Squarespace 6//v6//EN
BEGIN:VEVENT
UID:563f181be4b0a20ebbe8c779@squarespace.com
DTSTAMP:20151108T093849Z
DTSTART:20151120T040000Z
DTEND:20151120T060000Z
SUMMARY:Pizza Night
END:VEVENT
END:VCALENDAR
