BEGIN:VCALENDAR
VERSION:2.0
PRODID:-//Squarespace Inc/Squarespace 6//v6//EN
BEGIN:VEVENT
UID:563f16cae4b07f3c5ad2e4ad@squarespace.com
DTSTAMP:20151108T093317Z
DTSTART:20151120T200000Z
DTEND:20151120T220000Z
SUMMARY:Junior coaching
END:VEVENT
END:VCALENDAR
