BEGIN:VCALENDAR
VERSION:2.0
PRODID:-//Squarespace Inc/Squarespace 6//v6//EN
BEGIN:VEVENT
UID:563f1201e4b0d4282b2b4d80@squarespace.com
DTSTAMP:20151108T091307Z
DTSTART:20151123T033000Z
DTEND:20151123T053000Z
SUMMARY:Junior after school coaching
END:VEVENT
END:VCALENDAR
