BEGIN:VCALENDAR
VERSION:2.0
PRODID:-//Squarespace Inc/Squarespace 6//v6//EN
BEGIN:VEVENT
UID:563f1356e4b068bbd9770817@squarespace.com
DTSTAMP:20151108T091836Z
DTSTART:20151125T023000Z
DTEND:20151125T050000Z
SUMMARY:Junior after school coaching
END:VEVENT
END:VCALENDAR
