BEGIN:VCALENDAR
VERSION:2.0
PRODID:-//Squarespace Inc/Squarespace 6//v6//EN
BEGIN:VEVENT
UID:5610b9f3e4b00e2783b6cc47@squarespace.com
DTSTAMP:20151114T044113Z
DTSTART:20151125T060000Z
DTEND:20151125T080000Z
SUMMARY:Open Club Night
END:VEVENT
END:VCALENDAR
