BEGIN:VCALENDAR
VERSION:2.0
PRODID:-//Squarespace Inc/Squarespace 6//v6//EN
BEGIN:VEVENT
UID:5615ee24e4b0141a0f9836ad@squarespace.com
DTSTAMP:20151008T042037Z
DTSTART:20151125T200000Z
DTEND:20151125T213000Z
SUMMARY:A&D Tournament (Midweek Ladies)
END:VEVENT
END:VCALENDAR
