BEGIN:VCALENDAR
VERSION:2.0
PRODID:-//Squarespace Inc/Squarespace 6//v6//EN
BEGIN:VEVENT
UID:563f1708e4b0573e68c457a2@squarespace.com
DTSTAMP:20151108T093420Z
DTSTART:20151127T200000Z
DTEND:20151127T220000Z
SUMMARY:Junior coaching
END:VEVENT
END:VCALENDAR
