BEGIN:VCALENDAR
VERSION:2.0
PRODID:-//Squarespace Inc/Squarespace 6//v6//EN
BEGIN:VEVENT
UID:563f1231e4b068bbd97705da@squarespace.com
DTSTAMP:20151108T091347Z
DTSTART:20151130T033000Z
DTEND:20151130T053000Z
SUMMARY:Junior after school coaching
END:VEVENT
END:VCALENDAR
