BEGIN:VCALENDAR
VERSION:2.0
PRODID:-//Squarespace Inc/Squarespace 6//v6//EN
BEGIN:VEVENT
UID:5610b95ce4b0f085582c0946@squarespace.com
DTSTAMP:20151004T053030Z
DTSTART:20151104T060000Z
DTEND:20151104T070000Z
SUMMARY:Senior Club Night
END:VEVENT
END:VCALENDAR
