BEGIN:VCALENDAR
VERSION:2.0
PRODID:-//Squarespace Inc/Squarespace 6//v6//EN
BEGIN:VEVENT
UID:5610bb12e4b0021af670f8c4@squarespace.com
DTSTAMP:20151004T053809Z
DTSTART:20151104T200000Z
DTEND:20151104T213000Z
SUMMARY:Midweek Ladies
END:VEVENT
END:VCALENDAR
