BEGIN:VCALENDAR
VERSION:2.0
PRODID:-//Squarespace Inc/Squarespace 6//v6//EN
BEGIN:VEVENT
UID:563f117ae4b07bcd9d8fc51e@squarespace.com
DTSTAMP:20151108T091106Z
DTSTART:20151109T033000Z
DTEND:20151109T053000Z
SUMMARY:Junior after school coaching
END:VEVENT
END:VCALENDAR
