BEGIN:VCALENDAR
VERSION:2.0
PRODID:-//Squarespace Inc/Squarespace 6//v6//EN
BEGIN:VEVENT
UID:5611b67ee4b0c37386e118a6@squarespace.com
DTSTAMP:20151004T233945Z
DTSTART:20151130T190000Z
DTEND:20151130T200000Z
SUMMARY:Club Champs entries open!
END:VEVENT
END:VCALENDAR
