BEGIN:VCALENDAR
VERSION:2.0
PRODID:-//Squarespace Inc/Squarespace 6//v6//EN
BEGIN:VEVENT
UID:563f15b2e4b040b28d76d08a@squarespace.com
DTSTAMP:20151108T092851Z
DTSTART:20151209T200000Z
DTEND:20151209T213000Z
SUMMARY:Ladies morning
END:VEVENT
END:VCALENDAR
