BEGIN:VCALENDAR
VERSION:2.0
PRODID:-//Squarespace Inc/Squarespace 6//v6//EN
BEGIN:VEVENT
UID:563f187ae4b040da9693ca28@squarespace.com
DTSTAMP:20151108T094032Z
DTSTART:20151211T040000Z
DTEND:20151211T060000Z
SUMMARY:Pizza Night
END:VEVENT
END:VCALENDAR
