BEGIN:VCALENDAR
VERSION:2.0
PRODID:-//Squarespace Inc/Squarespace 6//v6//EN
BEGIN:VEVENT
UID:566256f9e4b02fb598fdfcde@squarespace.com
DTSTAMP:20151205T031735Z
DTSTART:20151213T200000Z
DTEND:20151213T230000Z
SUMMARY:Junior holiday progaramme
END:VEVENT
END:VCALENDAR
