BEGIN:VCALENDAR
VERSION:2.0
PRODID:-//Squarespace Inc/Squarespace 6//v6//EN
BEGIN:VEVENT
UID:56625759e4b0665ae8e6105f@squarespace.com
DTSTAMP:20151205T031808Z
DTSTART:20151214T200000Z
DTEND:20151214T230000Z
SUMMARY:Junior holiday programme
END:VEVENT
END:VCALENDAR
