BEGIN:VCALENDAR
VERSION:2.0
PRODID:-//Squarespace Inc/Squarespace 6//v6//EN
BEGIN:VEVENT
UID:5610ba84e4b00eddebd25f0b@squarespace.com
DTSTAMP:20151004T053526Z
DTSTART:20151216T060000Z
DTEND:20151216T080000Z
SUMMARY:Senior Club Night
END:VEVENT
END:VCALENDAR
