BEGIN:VCALENDAR
VERSION:2.0
PRODID:-//Squarespace Inc/Squarespace 6//v6//EN
BEGIN:VEVENT
UID:566257bbe4b0665ae8e6134e@squarespace.com
DTSTAMP:20151205T031942Z
DTSTART:20151217T200000Z
DTEND:20151217T230000Z
SUMMARY:Junior holiday programme
END:VEVENT
END:VCALENDAR
